BEGIN:VCALENDAR
VERSION:2.0
PRODID:-//Tukios.com/
BEGIN:VEVENT
UID:0e00cc13-7693-47b3-aeaa-c0e7339423aa@www.groffeckenroth.com
DTSTAMP:20260419T195828Z
DTSTART:20260422T220000Z
DTEND:20260423T000000Z
SUMMARY:Visitation
DESCRIPTION:
URL:https://www.groffeckenroth.com/obituaries/charles-messner
LOCATION: 209 E Main St  Terre Hill PA 17581
GEO:40.1558504;-76.0470817
END:VEVENT
END:VCALENDAR