BEGIN:VCALENDAR
VERSION:2.0
PRODID:-//Tukios.com/
BEGIN:VEVENT
UID:cff25c48-9b3a-4ec9-99c2-8cda7c398667@www.groffeckenroth.com
DTSTAMP:20260419T200658Z
DTSTART:20260423T150000Z
DTEND:20260423T160000Z
SUMMARY:Funeral Service
DESCRIPTION:
URL:https://www.groffeckenroth.com/obituaries/charles-messner
LOCATION:Refuge Calvary Chapel 33 South Railroad Avenue  New Holland PA 
	17557
GEO:40.102861;-76.0861447
END:VEVENT
END:VCALENDAR