BEGIN:VCALENDAR
VERSION:2.0
PRODID:-//Tukios.com/
BEGIN:VEVENT
UID:58c30e41-bd81-42b4-bcfd-8cfcf9f64d14@www.groffeckenroth.com
DTSTAMP:20260419T195625Z
DTSTART:20260423T140000Z
DTEND:20260423T150000Z
SUMMARY:Viewing
DESCRIPTION:
URL:https://www.groffeckenroth.com/obituaries/charles-messner
LOCATION:Refuge Calvary Chapel 33 South Railroad Avenue  New Holland PA 
	17557
GEO:40.102861;-76.0861447
END:VEVENT
END:VCALENDAR