BEGIN:VCALENDAR
VERSION:2.0
PRODID:-//Tukios.com/
BEGIN:VEVENT
UID:a9a7c91f-20b4-494f-af09-ece556a74288@www.groffeckenroth.com
DTSTAMP:20260422T190517Z
DTSTART:20260425T140000Z
DTEND:20260425T150000Z
SUMMARY:Viewing
DESCRIPTION:
URL:https://www.groffeckenroth.com/obituaries/elizabeth-felpel
LOCATION:Christian Fellowship Church 758 Spruce Road  New Holland PA 
	17557
GEO:40.1254793;-76.074319
END:VEVENT
END:VCALENDAR