BEGIN:VCALENDAR
VERSION:2.0
PRODID:-//Tukios.com/
BEGIN:VEVENT
UID:182e1bdb-0fd7-491b-918b-a60a01309f89@www.groffeckenroth.com
DTSTAMP:20260422T190822Z
DTSTART:20260425T150000Z
DTEND:20260425T160000Z
SUMMARY:Funeral Service
DESCRIPTION:
URL:https://www.groffeckenroth.com/obituaries/elizabeth-felpel
LOCATION:Christian Fellowship Church 758 Spruce Road  New Holland PA 
	17557
GEO:40.1254793;-76.074319
END:VEVENT
END:VCALENDAR