BEGIN:VCALENDAR
VERSION:2.0
PRODID:-//Tukios.com/
BEGIN:VEVENT
UID:9b3bddc0-3440-4fbb-9848-23f4a26e05a7@www.groffeckenroth.com
DTSTAMP:20260424T212223Z
DTSTART:20260502T140000Z
DTEND:20260502T150000Z
SUMMARY:Visitation
DESCRIPTION:
URL:https://www.groffeckenroth.com/obituaries/lowell-stauffer
LOCATION:Conestoga Mennonite Church 2779 Main St  Morgantown PA 19543
GEO:40.1514933;-75.9061744
END:VEVENT
END:VCALENDAR