BEGIN:VCALENDAR
VERSION:2.0
PRODID:-//Tukios.com/
BEGIN:VEVENT
UID:0a835467-a3dc-4b80-914f-8a7378cd8913@www.groffeckenroth.com
DTSTAMP:20260424T211826Z
DTSTART:20260502T150000Z
DTEND:20260502T160000Z
SUMMARY:Memorial Service
DESCRIPTION:
URL:https://www.groffeckenroth.com/obituaries/lowell-stauffer
LOCATION:Conestoga Mennonite Church 2779 Main St  Morgantown PA 19543
GEO:40.1514933;-75.9061744
END:VEVENT
END:VCALENDAR