BEGIN:VCALENDAR
VERSION:2.0
PRODID:-//Tukios.com/
BEGIN:VEVENT
UID:c71354f6-2f56-4db7-8e97-d68a9a061c23@www.groffeckenroth.com
DTSTAMP:20260422T224311Z
DTSTART:20260427T150000Z
DTEND:20260427T170000Z
SUMMARY:Visitation
DESCRIPTION:
URL:https://www.groffeckenroth.com/obituaries/shane-mcginnis
LOCATION:Ranck's United Methodist Church 700 Ranck Road  New Holland PA 
	17557
GEO:40.0916278;-76.0480782
END:VEVENT
END:VCALENDAR