BEGIN:VCALENDAR
VERSION:2.0
PRODID:-//Tukios.com/
BEGIN:VEVENT
UID:b34a59aa-b737-44f1-b26a-eb01ee3a4493@www.groffeckenroth.com
DTSTAMP:20260422T224628Z
DTSTART:20260427T170000Z
DTEND:20260427T180000Z
SUMMARY:Funeral Service
DESCRIPTION:
URL:https://www.groffeckenroth.com/obituaries/shane-mcginnis
LOCATION:Ranck's United Methodist Church 700 Ranck Rd  New Holland PA 
	17557
GEO:40.0916278;-76.0480782
END:VEVENT
END:VCALENDAR